BEGIN:VCALENDAR
VERSION:2.0
PRODID:-//Parallax - ECPv6.15.20//NONSGML v1.0//EN
CALSCALE:GREGORIAN
METHOD:PUBLISH
X-WR-CALNAME:Parallax
X-ORIGINAL-URL:https://www.centralcoastclsa.org
X-WR-CALDESC:Events for Parallax
REFRESH-INTERVAL;VALUE=DURATION:PT1H
X-Robots-Tag:noindex
X-PUBLISHED-TTL:PT1H
BEGIN:VTIMEZONE
TZID:America/Los_Angeles
BEGIN:DAYLIGHT
TZOFFSETFROM:-0800
TZOFFSETTO:-0700
TZNAME:PDT
DTSTART:20250309T100000
END:DAYLIGHT
BEGIN:STANDARD
TZOFFSETFROM:-0700
TZOFFSETTO:-0800
TZNAME:PST
DTSTART:20251102T090000
END:STANDARD
BEGIN:DAYLIGHT
TZOFFSETFROM:-0800
TZOFFSETTO:-0700
TZNAME:PDT
DTSTART:20260308T100000
END:DAYLIGHT
BEGIN:STANDARD
TZOFFSETFROM:-0700
TZOFFSETTO:-0800
TZNAME:PST
DTSTART:20261101T090000
END:STANDARD
BEGIN:DAYLIGHT
TZOFFSETFROM:-0800
TZOFFSETTO:-0700
TZNAME:PDT
DTSTART:20270314T100000
END:DAYLIGHT
BEGIN:STANDARD
TZOFFSETFROM:-0700
TZOFFSETTO:-0800
TZNAME:PST
DTSTART:20271107T090000
END:STANDARD
END:VTIMEZONE
BEGIN:VEVENT
DTSTART;TZID=America/Los_Angeles:20260207T060000
DTEND;TZID=America/Los_Angeles:20260207T100000
DTSTAMP:20260423T085442
CREATED:20260129T204705Z
LAST-MODIFIED:20260129T204937Z
UID:7487-1770444000-1770458400@www.centralcoastclsa.org
SUMMARY:Free NCEES FS (SIT) Study Group - Virtual
DESCRIPTION:Halff is hosting another FREE virtual study session from 8 am to 12 pm CentralTime\, and surveyors from across the country are invited to join.
URL:https://www.centralcoastclsa.org/index.php/event/free-ncees-fs-sit-study-group-virtual/
ATTACH;FMTTYPE=image/png:https://www.centralcoastclsa.org/wp-content/uploads/2026/01/NCEES-logo-horizontal-817362511.png
END:VEVENT
BEGIN:VEVENT
DTSTART;TZID=America/Los_Angeles:20260216T080000
DTEND;TZID=America/Los_Angeles:20260218T170000
DTSTAMP:20260423T085442
CREATED:20260114T195354Z
LAST-MODIFIED:20260117T213420Z
UID:7410-1771228800-1771434000@www.centralcoastclsa.org
SUMMARY:Geo Week - Denver\, Colorado
DESCRIPTION:Geo Week brings together geospatial and mapping professionals to explore how data\, maps\, and advanced technologies can deepen our understanding of the world and inform solutions for complex challenges.   \n\n\n\nDesigned for decision-makers and problem-solvers\, the conference program helps attendees solve real-world challenges by offering insights from industry leaders\, peer-driven case studies\, expert panels\, and collaborative roundtable discussions.  \n\n\n\nNew technological innovations\, the need for remote workflows\, and hardware breakthroughs are rapidly redefining expectations across teams\, organizations\, and entire industries. The Geo Week tradeshow floor brings together cutting-edge tools and trusted vendors to help professionals make informed technology decisions and offers an unmatched space for peer-to-peer-networking.  
URL:https://www.centralcoastclsa.org/index.php/event/geo-week/
ATTACH;FMTTYPE=image/png:https://www.centralcoastclsa.org/wp-content/uploads/2026/01/Geoweek.png
END:VEVENT
BEGIN:VEVENT
DTSTART;TZID=America/Los_Angeles:20260218T180000
DTEND;TZID=America/Los_Angeles:20260218T200000
DTSTAMP:20260423T085442
CREATED:20260206T164815Z
LAST-MODIFIED:20260206T165015Z
UID:7498-1771437600-1771444800@www.centralcoastclsa.org
SUMMARY:S.B. County Surveyor - Accela Informational Webinar
DESCRIPTION:The Santa Barbara County Surveyor’s Office is pleased to announce the upcoming implementation of Accela as our new system for survey project submittals\, plan review\, and fee payments. \n\n\n\nTo support a smooth transition\, we invite you to attend an informational webinar on Wednesday February 18 at 6:00 PM to 7:00 PM\, during which staff will provide an overview of the Accela platform\, demonstrate creating an account\, the application submittal workflow\, and address questions. \n\n\n\nPlease note the following important dates: \n\n\n\n\nFebruary 18 at 6:00 PM – Accela informational webinar\n\n\n\nFebruary 18 – Accela goes live for all project submittals\, reviews\, and payments\n\n\n\nFebruary 18 – DIRS will be discontinued and will no longer be available\n\n\n\n\nWe appreciate your cooperation and look forward to working with you as we transition to Accela. This new system is expected to enhance efficiency\, transparency\, and customer service. \n\n\n\nIf you have questions prior to the webinar\, please contact the Santa Barbara County Surveyor’s Office. \n\n\n\nSincerely\,E. Teñell MatlovskyDeputy for \n\n\n\nAleksandar Jevremovic \n\n\n\nSanta Barbara County Surveyor \n\n\n\n805-568-3012 \n\n\n\nMicrosoft Teams meeting \n\n\n\nJoin: https://teams.microsoft.com/meet/2299288184968?p=TZe8lkSp6m1vtZVihf \n\n\n\nMeeting ID: 229 928 818 496 8 \n\n\n\nPasscode: tM7ML6Mg
URL:https://www.centralcoastclsa.org/index.php/event/s-b-county-surveyor-accela-informational-webinar/
ATTACH;FMTTYPE=image/png:https://www.centralcoastclsa.org/wp-content/uploads/2026/02/SBCountySurveyorLogo.png
END:VEVENT
END:VCALENDAR