BEGIN:VCALENDAR
VERSION:2.0
PRODID:-//Parallax - ECPv6.15.20//NONSGML v1.0//EN
CALSCALE:GREGORIAN
METHOD:PUBLISH
X-WR-CALNAME:Parallax
X-ORIGINAL-URL:https://www.centralcoastclsa.org
X-WR-CALDESC:Events for Parallax
REFRESH-INTERVAL;VALUE=DURATION:PT1H
X-Robots-Tag:noindex
X-PUBLISHED-TTL:PT1H
BEGIN:VTIMEZONE
TZID:America/Los_Angeles
BEGIN:DAYLIGHT
TZOFFSETFROM:-0800
TZOFFSETTO:-0700
TZNAME:PDT
DTSTART:20240310T100000
END:DAYLIGHT
BEGIN:STANDARD
TZOFFSETFROM:-0700
TZOFFSETTO:-0800
TZNAME:PST
DTSTART:20241103T090000
END:STANDARD
BEGIN:DAYLIGHT
TZOFFSETFROM:-0800
TZOFFSETTO:-0700
TZNAME:PDT
DTSTART:20250309T100000
END:DAYLIGHT
BEGIN:STANDARD
TZOFFSETFROM:-0700
TZOFFSETTO:-0800
TZNAME:PST
DTSTART:20251102T090000
END:STANDARD
BEGIN:DAYLIGHT
TZOFFSETFROM:-0800
TZOFFSETTO:-0700
TZNAME:PDT
DTSTART:20260308T100000
END:DAYLIGHT
BEGIN:STANDARD
TZOFFSETFROM:-0700
TZOFFSETTO:-0800
TZNAME:PST
DTSTART:20261101T090000
END:STANDARD
END:VTIMEZONE
BEGIN:VEVENT
DTSTART;TZID=America/Los_Angeles:20250814T110000
DTEND;TZID=America/Los_Angeles:20250814T123000
DTSTAMP:20260423T173030
CREATED:20250811T204128Z
LAST-MODIFIED:20250811T204128Z
UID:6810-1755169200-1755174600@www.centralcoastclsa.org
SUMMARY:NGS Webinar - NSRS Modernization
DESCRIPTION:NSRS Modernization – Big Steps Forward and What Comes Next\nWebinar Description:\nNGS has recently made major strides in the journey towards National Spatial Reference System (NSRS) Modernization. This webinar will highlight the foundational products now available on our Beta site for testing and feedback\, what additional beta products will be released in the coming months\, and next steps and the updated timeline for Modernization. \n*Technical Content Rating: Intermediate – Some prior knowledge of the topic is helpful. \nPlease note: NGS is using a new webinar platform\, WebEx. Attending via a mobile device will require you to download the WebEx app\, therefore it is recommended to view the webinar on a desktop/laptop via web browser. \nRegister Here
URL:https://www.centralcoastclsa.org/index.php/event/ngs-webinar-nsrs-modernization/
LOCATION:ZOOM
ATTACH;FMTTYPE=image/png:https://www.centralcoastclsa.org/wp-content/uploads/2016/01/cropped-cropped-Logo1-1.png
END:VEVENT
BEGIN:VEVENT
DTSTART;TZID=America/Los_Angeles:20250816T110000
DTEND;TZID=America/Los_Angeles:20250816T150000
DTSTAMP:20260423T173030
CREATED:20250621T151803Z
LAST-MODIFIED:20250715T212616Z
UID:6693-1755342000-1755356400@www.centralcoastclsa.org
SUMMARY:Chapter Summer Barbecue
DESCRIPTION:Come join the festivities on Saturday August 16! \nLocation: Cuesta Park\, San Luis Obispo    MAP \nCost: $0.00 (Due to an anonymous donor!!!)\nConsider offering a donation to the Chapters scholarship fund! \nTime: Fun starts at 11:30am\nLunch served around 1:00pm\nDrawing around 2:30pm \n 
URL:https://www.centralcoastclsa.org/index.php/event/chapter-summer-barbecue/
LOCATION:Cuesta Park
ATTACH;FMTTYPE=image/png:https://www.centralcoastclsa.org/wp-content/uploads/2016/01/cropped-cropped-Logo1-1.png
END:VEVENT
BEGIN:VEVENT
DTSTART;TZID=America/Los_Angeles:20250822T120000
DTEND;TZID=America/Los_Angeles:20250822T130000
DTSTAMP:20260423T173030
CREATED:20250811T201106Z
LAST-MODIFIED:20250811T201106Z
UID:6808-1755864000-1755867600@www.centralcoastclsa.org
SUMMARY:CLSA Webinar - CSRC Mission
DESCRIPTION:CSRC’s Mission and its Application to the Community  \nFriday\, August 22\, 2025 | 12pm \nPresented by – Gregory A. Helmer\, PLS \n  \nThis webinar will describe the collection of data\, models\, analysis and distribution that is the California Spatial Reference System. Pertinent to the practice of Professional Land Surveying\, these include: \n\nCalifornia Spatial Reference Network (CSRN) with its latest Epoch 2025.00 realization\,\nSOPAC archive of RINEX files and metadata for post-processed control surveys\,\nMGViz network map and timeseries visualizer with GeoJSON export\,\nCRTN real-time GNSS correction streaming with PRC compliant base station coordinates\,\nSCIP 4d dynamic datum application updated weekly\,\nReferences and guidelines for surveying accuracy and basis of bearings\,\nOutreach and education through semi-annual Coordinating Council meetings and lectures\,\nSIO Master of Science and PhD degree program in Geodesy.\n\nRegister Here
URL:https://www.centralcoastclsa.org/index.php/event/clsa-webinar-csrc-mission/
LOCATION:ZOOM
ATTACH;FMTTYPE=image/png:https://www.centralcoastclsa.org/wp-content/uploads/2016/01/cropped-cropped-Logo1-1.png
END:VEVENT
END:VCALENDAR