BEGIN:VCALENDAR
VERSION:2.0
PRODID:-//Parallax - ECPv6.15.20//NONSGML v1.0//EN
CALSCALE:GREGORIAN
METHOD:PUBLISH
X-WR-CALNAME:Parallax
X-ORIGINAL-URL:https://www.centralcoastclsa.org
X-WR-CALDESC:Events for Parallax
REFRESH-INTERVAL;VALUE=DURATION:PT1H
X-Robots-Tag:noindex
X-PUBLISHED-TTL:PT1H
BEGIN:VTIMEZONE
TZID:America/Los_Angeles
BEGIN:DAYLIGHT
TZOFFSETFROM:-0800
TZOFFSETTO:-0700
TZNAME:PDT
DTSTART:20240310T100000
END:DAYLIGHT
BEGIN:STANDARD
TZOFFSETFROM:-0700
TZOFFSETTO:-0800
TZNAME:PST
DTSTART:20241103T090000
END:STANDARD
BEGIN:DAYLIGHT
TZOFFSETFROM:-0800
TZOFFSETTO:-0700
TZNAME:PDT
DTSTART:20250309T100000
END:DAYLIGHT
BEGIN:STANDARD
TZOFFSETFROM:-0700
TZOFFSETTO:-0800
TZNAME:PST
DTSTART:20251102T090000
END:STANDARD
BEGIN:DAYLIGHT
TZOFFSETFROM:-0800
TZOFFSETTO:-0700
TZNAME:PDT
DTSTART:20260308T100000
END:DAYLIGHT
BEGIN:STANDARD
TZOFFSETFROM:-0700
TZOFFSETTO:-0800
TZNAME:PST
DTSTART:20261101T090000
END:STANDARD
END:VTIMEZONE
BEGIN:VEVENT
DTSTART;TZID=America/Los_Angeles:20250716T173000
DTEND;TZID=America/Los_Angeles:20250716T203000
DTSTAMP:20260423T192257
CREATED:20250519T154450Z
LAST-MODIFIED:20250617T180222Z
UID:6576-1752687000-1752697800@www.centralcoastclsa.org
SUMMARY:Chapter Meeting
DESCRIPTION:Date: Wednesday\, July 16\, 2025 \nTime: 5:30pm Social\n6:00pm Meeting \nLocation: Wallace Group Conference Center\n612 Clarion Court\nSan Luis Obispo \nMenu: Taco Dinner \nProgram: Kristie  Achee – CLSA President Elect\nTrig-Star Awards\n We are looking for Dinner sponsors for the awardees and families. Please contact Luz Garcia (luzg@wallacegroup.us) to become a sponsor. The cost is $30/seat. \nRSVP: Marco Castaneda – marcoc@wallacegroup.us \n 
URL:https://www.centralcoastclsa.org/index.php/event/chapter-meeting-17/
LOCATION:Wallace Group\, 612 Clarion Ct.\, San Luis Obispo\, CA\, 93401
ATTACH;FMTTYPE=image/png:https://www.centralcoastclsa.org/wp-content/uploads/2016/01/cropped-cropped-Logo1-1.png
END:VEVENT
BEGIN:VEVENT
DTSTART;TZID=America/Los_Angeles:20250725T120000
DTEND;TZID=America/Los_Angeles:20250725T130000
DTSTAMP:20260423T192257
CREATED:20250714T144038Z
LAST-MODIFIED:20250714T144038Z
UID:6747-1753444800-1753448400@www.centralcoastclsa.org
SUMMARY:CLSA Webinar - ELAC's NSF ATE deliverables to the K-14 + Transfer Students in Land Surveying
DESCRIPTION:Members: Complimentary \nNon-Members: $50.00 \nThe presentation will revolve around the support the National Science Foundation provides through the Advanced Technological Education (ATE) program to Two-Year Institutions of Higher Education such as Community Colleges focused on training the next generation of Professional Land Surveyors\, Engineering Surveyors\, and Geodesist. In addition\, prior accomplishments through East Los Angeles College’s NSF ATE project and its partnership with Cal Poly Pomona’s surveying program will be presented and discussed. \n\n\n\n\n\nPresented by: Humberto Gallegos\, CSRC – Chairperson
URL:https://www.centralcoastclsa.org/index.php/event/clsa-webinar-elacs-nsf-ate-deliverables-to-the-k-14-transfer-students-in-land-surveying/
ATTACH;FMTTYPE=image/png:https://www.centralcoastclsa.org/wp-content/uploads/2016/01/cropped-cropped-Logo1-1.png
END:VEVENT
END:VCALENDAR