BEGIN:VCALENDAR
VERSION:2.0
PRODID:-//Parallax - ECPv6.15.20//NONSGML v1.0//EN
CALSCALE:GREGORIAN
METHOD:PUBLISH
X-WR-CALNAME:Parallax
X-ORIGINAL-URL:https://www.centralcoastclsa.org
X-WR-CALDESC:Events for Parallax
REFRESH-INTERVAL;VALUE=DURATION:PT1H
X-Robots-Tag:noindex
X-PUBLISHED-TTL:PT1H
BEGIN:VTIMEZONE
TZID:America/Los_Angeles
BEGIN:DAYLIGHT
TZOFFSETFROM:-0800
TZOFFSETTO:-0700
TZNAME:PDT
DTSTART:20220313T100000
END:DAYLIGHT
BEGIN:STANDARD
TZOFFSETFROM:-0700
TZOFFSETTO:-0800
TZNAME:PST
DTSTART:20221106T090000
END:STANDARD
BEGIN:DAYLIGHT
TZOFFSETFROM:-0800
TZOFFSETTO:-0700
TZNAME:PDT
DTSTART:20230312T100000
END:DAYLIGHT
BEGIN:STANDARD
TZOFFSETFROM:-0700
TZOFFSETTO:-0800
TZNAME:PST
DTSTART:20231105T090000
END:STANDARD
BEGIN:DAYLIGHT
TZOFFSETFROM:-0800
TZOFFSETTO:-0700
TZNAME:PDT
DTSTART:20240310T100000
END:DAYLIGHT
BEGIN:STANDARD
TZOFFSETFROM:-0700
TZOFFSETTO:-0800
TZNAME:PST
DTSTART:20241103T090000
END:STANDARD
END:VTIMEZONE
BEGIN:VEVENT
DTSTART;TZID=America/Los_Angeles:20230309T120000
DTEND;TZID=America/Los_Angeles:20230309T130000
DTSTAMP:20260425T170929
CREATED:20230302T051954Z
LAST-MODIFIED:20230302T133221Z
UID:5039-1678363200-1678366800@www.centralcoastclsa.org
SUMMARY:NGS Webinar - CORS Installation\, Operation\, and Maintenance
DESCRIPTION:CORS Installation\, Operation\, and Maintenance Best Practices\nNOAA’s Continuously Operating Reference Station (CORS) Network provides Global Navigation Satellite System (GNSS) data to support three-dimensional positioning\, meteorology\, space weather\, and other geophysical applications throughout the United States and many parts of the globe. Modern GNSS hardware and data processing techniques are increasingly more precise and accurate\, requiring better CORS installation\, operation and maintenance practices. \n*Technical Content Rating: Beginner– No prior knowledge of the topic is needed. \nRegister Here
URL:https://www.centralcoastclsa.org/index.php/event/ngs-webinar-cors-installation-operation-and-maintenance/
ATTACH;FMTTYPE=image/png:https://www.centralcoastclsa.org/wp-content/uploads/2016/01/cropped-cropped-Logo1-1.png
END:VEVENT
BEGIN:VEVENT
DTSTART;TZID=America/Los_Angeles:20230315T180000
DTEND;TZID=America/Los_Angeles:20230315T200000
DTSTAMP:20260425T170929
CREATED:20221230T134450Z
LAST-MODIFIED:20230220T130657Z
UID:4898-1678903200-1678910400@www.centralcoastclsa.org
SUMMARY:Chapter Meeting
DESCRIPTION:The next scheduled 2023 Chapter Meeting will be in SLO at the IHOP restaurant. \n\nDate: Wednesday\, March 15\, 2023\nTime:\n\nSocial Time: 5:30 to 6PM\nMeeting: 6PM to 8PM\n\n\nLocation: IHOP\, 212 Madonna Road\, San Luis Obispo\, CA\n\nOrder off the menu\n\n\nGuest Speaker: Mike Stanton will report on the survey to re-establish one of the Rancho Nipomo lines in the Suey Creek area. It will be a very interesting presentation\, don’t miss it !\nYour RSVP is always encouraged\, please contact Jerimiah Herman at Jeremiah@mbslandsurveys.com 
URL:https://www.centralcoastclsa.org/index.php/event/chapter-meeting-6/
ATTACH;FMTTYPE=image/png:https://www.centralcoastclsa.org/wp-content/uploads/2016/01/cropped-cropped-Logo1-1.png
END:VEVENT
BEGIN:VEVENT
DTSTART;VALUE=DATE:20230319
DTEND;VALUE=DATE:20230326
DTSTAMP:20260425T170929
CREATED:20230323T033633Z
LAST-MODIFIED:20230323T033633Z
UID:5089-1679184000-1679788799@www.centralcoastclsa.org
SUMMARY:National Surveyors' Week
DESCRIPTION:Proclaimed nationally by then-President Ronald Reagan on February 13\, 1984\, National Surveyors Week is celebrated each year starting the third Sunday in March. The purpose of the week is to educate the public about the value of land surveying through classroom contact\, media\, and visible public service. \nThere are more than 43\,000 land surveyors in the United States\, who are skilled or familiar with several fields: geometry\, trigonometry\, regression analysis\, physics\, engineering\, meteorology\, programming languages\, and the law. In fact\, some of the nation’s founding fathers\, including George Washington and Thomas Jefferson were land surveyors during colonial times. \nSurveying has been a part of the advancement of civilization since the beginning of recorded history\, as it is necessary to plan and build most earth-bound projects. The first examples in the history of land surveying date back to the ancient Egyptians during the building of the Great Pyramid at Giza in 2700 BC. Throughout our country’s history\, surveyors have been credited with developing economic plans that effectively use resources and land to help the country prosper. \nWhile the basics of surveying have stayed the same\, the tools of surveying today are much more technical than they once were. Drones and lasers have replaced much of the telescope-on-a-tripod work. Remote sensing and satellite imagery continue to improve and become cheaper\, allowing more commonplace use\, and there is increasing use of three-dimensional (3D) scanning.
URL:https://www.centralcoastclsa.org/index.php/event/national-surveyors-week/
ATTACH;FMTTYPE=image/png:https://www.centralcoastclsa.org/wp-content/uploads/2016/01/cropped-cropped-Logo1-1.png
END:VEVENT
END:VCALENDAR