BEGIN:VCALENDAR
VERSION:2.0
PRODID:-//Parallax - ECPv6.15.20//NONSGML v1.0//EN
CALSCALE:GREGORIAN
METHOD:PUBLISH
X-ORIGINAL-URL:https://www.centralcoastclsa.org
X-WR-CALDESC:Events for Parallax
REFRESH-INTERVAL;VALUE=DURATION:PT1H
X-Robots-Tag:noindex
X-PUBLISHED-TTL:PT1H
BEGIN:VTIMEZONE
TZID:America/Los_Angeles
BEGIN:DAYLIGHT
TZOFFSETFROM:-0800
TZOFFSETTO:-0700
TZNAME:PDT
DTSTART:20250309T100000
END:DAYLIGHT
BEGIN:STANDARD
TZOFFSETFROM:-0700
TZOFFSETTO:-0800
TZNAME:PST
DTSTART:20251102T090000
END:STANDARD
BEGIN:DAYLIGHT
TZOFFSETFROM:-0800
TZOFFSETTO:-0700
TZNAME:PDT
DTSTART:20260308T100000
END:DAYLIGHT
BEGIN:STANDARD
TZOFFSETFROM:-0700
TZOFFSETTO:-0800
TZNAME:PST
DTSTART:20261101T090000
END:STANDARD
BEGIN:DAYLIGHT
TZOFFSETFROM:-0800
TZOFFSETTO:-0700
TZNAME:PDT
DTSTART:20270314T100000
END:DAYLIGHT
BEGIN:STANDARD
TZOFFSETFROM:-0700
TZOFFSETTO:-0800
TZNAME:PST
DTSTART:20271107T090000
END:STANDARD
END:VTIMEZONE
BEGIN:VEVENT
DTSTART;TZID=America/Los_Angeles:20260425T090000
DTEND;TZID=America/Los_Angeles:20260425T120000
DTSTAMP:20260423T132513
CREATED:20260417T192935Z
LAST-MODIFIED:20260417T192937Z
UID:7866-1777107600-1777118400@www.centralcoastclsa.org
SUMMARY:Board of Directors Meeting
DESCRIPTION:Zoom Meeting – Contact Central Office for Link
URL:https://www.centralcoastclsa.org/index.php/event/board-of-directors-meeting/
ATTACH;FMTTYPE=image/png:https://www.centralcoastclsa.org/wp-content/uploads/2016/01/cropped-cropped-Logo1-1.png
END:VEVENT
BEGIN:VEVENT
DTSTART;TZID=America/Los_Angeles:20260430T100000
DTEND;TZID=America/Los_Angeles:20260430T153000
DTSTAMP:20260423T132513
CREATED:20260418T134450Z
LAST-MODIFIED:20260418T134451Z
UID:7880-1777543200-1777563000@www.centralcoastclsa.org
SUMMARY:California Spatial Reference Center Coordinating Council Meeting
DESCRIPTION:You are invited to CSRC Meeting – Virtual or in Person. \n\n\n\nMain Topics of Discussion: CSRC\, California Real Time Network (CRTN) updates and related topics relevant to California \n\n\n\nTime: Approximately 10:00 AM to 3:30 PM; morning sessions around 10:00 AM to 12:00 PM and afternoon sessions 1:00 to 3:30 PM\, with a break from approximately 12:00-1:00 PM. \n\n\n\nFees/Costs: There are no registration fees or costs to attend in person or virtually. For in-person attendees\, lunch will be included.  \n\n\n\nTo join virtually\, please register at the Zoom webinar link: https://tinyurl.com/2026AprilCSRC or scan the QR code in the meeting flyer/post. \n\n\n\nTo join in-person\, please RSVP by April 22 to reserve your seat and lunch\, email maria@ucsd.edu (or mrturingan@ucsd.edu).   \n\n\n\nIn-Person Meeting Location: Martin Johnson House\, IGPP Dept.\, Scripps Institution of Oceanography (SIO)\, University of California San Diego\, 8840 Biological Grade\, La Jolla\, 92037. \n\n\n\nPlanned Talks: \n\n\n\n\nDirector’s Report including CSRC/CRTN Updates\, Dr. Yehuda Bock\, Scripps Oceanography\, UCSD\n\n\n\nCSRC Mission and Application for Professional Land Surveying Practice\, Gregory Helmer\, CSRC Executive Manager\n\n\n\n A Decade of Deformation Monitoring in California Using InSAR and GNSS\, Dr. Molly Zebker\, Scripps Oceanography\n\n\n\nReal-Time Flash-Flood Prediction Using GNSS Water Vapor Observations and Deep Learning\, Bhavik Chandra\, Scripps Oceanography\n\n\n\nTrimble’s Time Dependent Positioning\, Dr. Chris Pearson\, Trimble\n\n\n\nEarthScope’s Network of the Americas (NOTA): Updates and Current Status\, EarthScope Consortium\n\n\n\nCaltrans Update\, Kevin Maxwell\n\n\n\nCSRC\, CRTN Consortium\, Upcoming Executive Committee Elections\, Maria Turingan\, Scripps Oceanograph
URL:https://www.centralcoastclsa.org/index.php/event/california-spatial-reference-center-coordinating-council-meeting/
ATTACH;FMTTYPE=image/png:https://www.centralcoastclsa.org/wp-content/uploads/2016/01/cropped-cropped-Logo1-1.png
END:VEVENT
BEGIN:VEVENT
DTSTART;TZID=America/Los_Angeles:20260520T173000
DTEND;TZID=America/Los_Angeles:20260520T223000
DTSTAMP:20260423T132513
CREATED:20260417T192703Z
LAST-MODIFIED:20260417T192705Z
UID:7864-1779298200-1779316200@www.centralcoastclsa.org
SUMMARY:Chapter Meeting
DESCRIPTION:
URL:https://www.centralcoastclsa.org/index.php/event/chapter-meeting-20/
ATTACH;FMTTYPE=image/png:https://www.centralcoastclsa.org/wp-content/uploads/2016/01/cropped-cropped-Logo1-1.png
END:VEVENT
BEGIN:VEVENT
DTSTART;TZID=America/Los_Angeles:20260718T100000
DTEND;TZID=America/Los_Angeles:20260718T160000
DTSTAMP:20260423T132513
CREATED:20260417T194128Z
LAST-MODIFIED:20260417T194129Z
UID:7868-1784368800-1784390400@www.centralcoastclsa.org
SUMMARY:Mount Diablo 175th Anniversary Event
DESCRIPTION:Mount Diablo Surveyors Historical Society Invites you to:\n\n\n\nCelebration of the Mount Diablo Initial Point        MAP \n\n\n\n\n\n\n\nJoin surveyors\, historians\, and park rangers to celebrate the 175th Anniversary of the Mount Diablo Initial Point\, the reference fromwhich much of California’s and all of Nevada’s public land surveys originate \n\n\n\n\nHistorical Surveying demonstrations\n\n\n\nFamily-friendly learning activities\n\n\n\nRanger talks about Mount Diablo\n\n\n\nEducational exhibits on the Public Land Survey System\n\n\n\n\nAddition Details \n\n\n\n\nUpper parking lot has limited space\, lower parking lot (1/4 mile) has additional parking\, restrooms\, picnic tables\, and pedestrian trail or paved road to the summit. \n\n\n\nAllow approximately 45 minutes to drive from either the north or south gates of the park up to the summit.$10 state park gate entrance fee\n\n\n\nPark opens at 8am – closes at sunset\n\n\n\n\nBring your lunch / snacks / drinks / sunscreen and enjoy the whole day! \n\n\n\nFor Questions or more information please contact: mdshsorg@yahoo.com or go to https://www.mdshs.org
URL:https://www.centralcoastclsa.org/index.php/event/mount-diablo-175th-anniversary-event/
ATTACH;FMTTYPE=image/png:https://www.centralcoastclsa.org/wp-content/uploads/2016/01/cropped-cropped-Logo1-1.png
END:VEVENT
BEGIN:VEVENT
DTSTART;TZID=America/Los_Angeles:20260725T090000
DTEND;TZID=America/Los_Angeles:20260725T120000
DTSTAMP:20260423T132513
CREATED:20260417T194421Z
LAST-MODIFIED:20260417T194422Z
UID:7871-1784970000-1784980800@www.centralcoastclsa.org
SUMMARY:Board of Directors Meeting
DESCRIPTION:Zoom Meeting \n\n\n\nContact Central Office of CLSA for Zoom link
URL:https://www.centralcoastclsa.org/index.php/event/board-of-directors-meeting-2/
ATTACH;FMTTYPE=image/png:https://www.centralcoastclsa.org/wp-content/uploads/2016/01/cropped-cropped-Logo1-1.png
END:VEVENT
BEGIN:VEVENT
DTSTART;TZID=America/Los_Angeles:20260917T080000
DTEND;TZID=America/Los_Angeles:20260920T170000
DTSTAMP:20260423T132513
CREATED:20260417T194630Z
LAST-MODIFIED:20260417T194631Z
UID:7873-1789632000-1789923600@www.centralcoastclsa.org
SUMMARY:Women Surveyors Summit 2026 - San Diego
DESCRIPTION:The Women Surveyors Summit\, hosted by Future Surveyors Foundation is held to support and promote diversity in the land surveying profession. \n\n\n\nThis in-person event is the 7th Women Surveyors Summit. This is a “for women\, by women” event and will include opportunities for continuing education. At a minimum 12 PDHs with at least 2 hours of Ethics willl be available.
URL:https://www.centralcoastclsa.org/index.php/event/women-surveyors-summit-2026-san-diego/
ATTACH;FMTTYPE=image/png:https://www.centralcoastclsa.org/wp-content/uploads/2016/01/cropped-cropped-Logo1-1.png
END:VEVENT
END:VCALENDAR