BEGIN:VCALENDAR
VERSION:2.0
PRODID:-//Parallax - ECPv6.15.20//NONSGML v1.0//EN
CALSCALE:GREGORIAN
METHOD:PUBLISH
X-ORIGINAL-URL:https://www.centralcoastclsa.org
X-WR-CALDESC:Events for Parallax
REFRESH-INTERVAL;VALUE=DURATION:PT1H
X-Robots-Tag:noindex
X-PUBLISHED-TTL:PT1H
BEGIN:VTIMEZONE
TZID:America/Los_Angeles
BEGIN:DAYLIGHT
TZOFFSETFROM:-0800
TZOFFSETTO:-0700
TZNAME:PDT
DTSTART:20250309T100000
END:DAYLIGHT
BEGIN:STANDARD
TZOFFSETFROM:-0700
TZOFFSETTO:-0800
TZNAME:PST
DTSTART:20251102T090000
END:STANDARD
BEGIN:DAYLIGHT
TZOFFSETFROM:-0800
TZOFFSETTO:-0700
TZNAME:PDT
DTSTART:20260308T100000
END:DAYLIGHT
BEGIN:STANDARD
TZOFFSETFROM:-0700
TZOFFSETTO:-0800
TZNAME:PST
DTSTART:20261101T090000
END:STANDARD
BEGIN:DAYLIGHT
TZOFFSETFROM:-0800
TZOFFSETTO:-0700
TZNAME:PDT
DTSTART:20270314T100000
END:DAYLIGHT
BEGIN:STANDARD
TZOFFSETFROM:-0700
TZOFFSETTO:-0800
TZNAME:PST
DTSTART:20271107T090000
END:STANDARD
END:VTIMEZONE
BEGIN:VEVENT
DTSTART;TZID=America/Los_Angeles:20260408T080000
DTEND;TZID=America/Los_Angeles:20260408T090000
DTSTAMP:20260423T071350
CREATED:20260402T195412Z
LAST-MODIFIED:20260402T195413Z
UID:7848-1775635200-1775638800@www.centralcoastclsa.org
SUMMARY:Where survey firms are quietly losing money (Free Educational Webinar)
DESCRIPTION:Hi\, \n\n\n\nMost survey firms don’t struggle because they’re bad at surveying. \n\n\n\nThey struggle because no one ever taught them the commercial side of running a survey business. \n\n\n\nAcross the industry\, we’re seeing the same pattern again and again. \n\n\n\nNot a lack of work … \n\n\n\n… but a slow\, quiet leak in revenue that most firms never measure. \n\n\n\nIt usually shows up as: \n\n\n\n\ntime spent on the wrong activity\n\n\n\ndiscounting just to win work\n\n\n\nmissed projects you never even hear about\n\n\n\nfixing things later that should’ve been built properly from the start\n\n\n\n\nIndividually\, none of these feel like a big deal. \n\n\n\nBut when you add them up … it’s often $$$’s a year. \n\n\n\nSo we’re hosting a webinar to break this down properly\, in a way that actually makes sense for surveyors. \n\n\n\nNo fluff. No “just post more on LinkedIn” advice. \n\n\n\nJust a clear look at where the money is going\, why it’s happening and what to fix first. \n\n\n\nIf you’ve ever felt like your pipeline is more reactive than it should be … this will feel very familiar.
URL:https://www.centralcoastclsa.org/index.php/event/where-survey-firms-are-quietly-losing-money-free-educational-webinar/
ATTACH;FMTTYPE=image/png:https://www.centralcoastclsa.org/wp-content/uploads/2016/01/cropped-cropped-Logo1-1.png
END:VEVENT
END:VCALENDAR