BEGIN:VCALENDAR
VERSION:2.0
PRODID:-//Parallax - ECPv6.15.20//NONSGML v1.0//EN
CALSCALE:GREGORIAN
METHOD:PUBLISH
X-WR-CALNAME:Parallax
X-ORIGINAL-URL:https://www.centralcoastclsa.org
X-WR-CALDESC:Events for Parallax
REFRESH-INTERVAL;VALUE=DURATION:PT1H
X-Robots-Tag:noindex
X-PUBLISHED-TTL:PT1H
BEGIN:VTIMEZONE
TZID:America/Los_Angeles
BEGIN:DAYLIGHT
TZOFFSETFROM:-0800
TZOFFSETTO:-0700
TZNAME:PDT
DTSTART:20250309T100000
END:DAYLIGHT
BEGIN:STANDARD
TZOFFSETFROM:-0700
TZOFFSETTO:-0800
TZNAME:PST
DTSTART:20251102T090000
END:STANDARD
BEGIN:DAYLIGHT
TZOFFSETFROM:-0800
TZOFFSETTO:-0700
TZNAME:PDT
DTSTART:20260308T100000
END:DAYLIGHT
BEGIN:STANDARD
TZOFFSETFROM:-0700
TZOFFSETTO:-0800
TZNAME:PST
DTSTART:20261101T090000
END:STANDARD
BEGIN:DAYLIGHT
TZOFFSETFROM:-0800
TZOFFSETTO:-0700
TZNAME:PDT
DTSTART:20270314T100000
END:DAYLIGHT
BEGIN:STANDARD
TZOFFSETFROM:-0700
TZOFFSETTO:-0800
TZNAME:PST
DTSTART:20271107T090000
END:STANDARD
END:VTIMEZONE
BEGIN:VEVENT
DTSTART;VALUE=DATE:20260122
DTEND;VALUE=DATE:20260124
DTSTAMP:20260423T114208
CREATED:20251030T174252Z
LAST-MODIFIED:20260117T213203Z
UID:6934-1769040000-1769212799@www.centralcoastclsa.org
SUMMARY:65th Annual Fresno State Geomatics Engineering Conference
DESCRIPTION:Since 1958\, Fresno State’s Geomatics Engineering Clubs have partnered with the surveying industry\, the community\, faculty and other Geomatics Engineering/Photogrammetry and Remote Sensing related businesses and agencies to host this annual celebration of the Surveying profession. By recognizing our past\, present and future and connecting students to alumni\, industry professionals and researchers\, students will have the opportunity to discover the world of Geomatics Engineering through the eyes of the professional.\n\nThe conference focuses on a variety of areas such as:\n\n 	Land Surveying\n 	Photogrammetry\n 	Unmanned Aerial Systems\n 	Geographical Information Systems (GIS)\n 	Global Positioning Systems (GPS)\n\nNearly 20 guest speakers from industry\, government and academia will speak about a variety of topics. Numerous scholarships will be awarded to Lyles College of Engineering. More than $1 million in scholarships have been awarded at this annual conference over the years. Several vendors also will be exhibiting the latest technologies in GIS\, surveying and more.\n\nMore information about our speakers will be posted here\, and more information about our vendors will be posted here.\n\nThe conference also has a banquet\, which celebrates students and donors. The banquet will be held at Pardini’s. The address is 2257 W Shaw Ave\, Fresno\, CA 93711.
URL:https://www.centralcoastclsa.org/index.php/event/65th-annual-fresno-state-geomatics-engineering-conference/
LOCATION:Freso State University – Resnick Student Union\, 5244 N. Jackson Ave.\, Fresno\, CA\, United States
ATTACH;FMTTYPE=image/png:https://www.centralcoastclsa.org/wp-content/uploads/2025/10/FresnoConference.png
END:VEVENT
END:VCALENDAR