BEGIN:VCALENDAR
VERSION:2.0
PRODID:-//Parallax - ECPv6.15.20//NONSGML v1.0//EN
CALSCALE:GREGORIAN
METHOD:PUBLISH
X-ORIGINAL-URL:https://www.centralcoastclsa.org
X-WR-CALDESC:Events for Parallax
REFRESH-INTERVAL;VALUE=DURATION:PT1H
X-Robots-Tag:noindex
X-PUBLISHED-TTL:PT1H
BEGIN:VTIMEZONE
TZID:America/Los_Angeles
BEGIN:DAYLIGHT
TZOFFSETFROM:-0800
TZOFFSETTO:-0700
TZNAME:PDT
DTSTART:20250309T100000
END:DAYLIGHT
BEGIN:STANDARD
TZOFFSETFROM:-0700
TZOFFSETTO:-0800
TZNAME:PST
DTSTART:20251102T090000
END:STANDARD
BEGIN:DAYLIGHT
TZOFFSETFROM:-0800
TZOFFSETTO:-0700
TZNAME:PDT
DTSTART:20260308T100000
END:DAYLIGHT
BEGIN:STANDARD
TZOFFSETFROM:-0700
TZOFFSETTO:-0800
TZNAME:PST
DTSTART:20261101T090000
END:STANDARD
BEGIN:DAYLIGHT
TZOFFSETFROM:-0800
TZOFFSETTO:-0700
TZNAME:PDT
DTSTART:20270314T100000
END:DAYLIGHT
BEGIN:STANDARD
TZOFFSETFROM:-0700
TZOFFSETTO:-0800
TZNAME:PST
DTSTART:20271107T090000
END:STANDARD
END:VTIMEZONE
BEGIN:VEVENT
DTSTART;TZID=America/Los_Angeles:20260106T190000
DTEND;TZID=America/Los_Angeles:20260106T200000
DTSTAMP:20260423T115114
CREATED:20260101T205826Z
LAST-MODIFIED:20260101T210806Z
UID:7366-1767726000-1767729600@www.centralcoastclsa.org
SUMMARY:Mount Diablo Surveyors Historical Society - ZOOM
DESCRIPTION:Contact Robert Reese (robert@reesesurveying.com) for a link to the upcoming January 6\, 2026\, Zoom meeting at 7pm. \nSee Post about the meeting and about the historical society.
URL:https://www.centralcoastclsa.org/index.php/event/mount-diablo-surveyors-historical-society-zoom/
LOCATION:ZOOM
ATTACH;FMTTYPE=image/jpeg:https://www.centralcoastclsa.org/wp-content/uploads/2026/01/HistoricInstruments_Light.jpg
END:VEVENT
END:VCALENDAR