BEGIN:VCALENDAR
VERSION:2.0
PRODID:-//Parallax - ECPv6.15.20//NONSGML v1.0//EN
CALSCALE:GREGORIAN
METHOD:PUBLISH
X-WR-CALNAME:Parallax
X-ORIGINAL-URL:https://www.centralcoastclsa.org
X-WR-CALDESC:Events for Parallax
REFRESH-INTERVAL;VALUE=DURATION:PT1H
X-Robots-Tag:noindex
X-PUBLISHED-TTL:PT1H
BEGIN:VTIMEZONE
TZID:America/Los_Angeles
BEGIN:DAYLIGHT
TZOFFSETFROM:-0800
TZOFFSETTO:-0700
TZNAME:PDT
DTSTART:20240310T100000
END:DAYLIGHT
BEGIN:STANDARD
TZOFFSETFROM:-0700
TZOFFSETTO:-0800
TZNAME:PST
DTSTART:20241103T090000
END:STANDARD
BEGIN:DAYLIGHT
TZOFFSETFROM:-0800
TZOFFSETTO:-0700
TZNAME:PDT
DTSTART:20250309T100000
END:DAYLIGHT
BEGIN:STANDARD
TZOFFSETFROM:-0700
TZOFFSETTO:-0800
TZNAME:PST
DTSTART:20251102T090000
END:STANDARD
BEGIN:DAYLIGHT
TZOFFSETFROM:-0800
TZOFFSETTO:-0700
TZNAME:PDT
DTSTART:20260308T100000
END:DAYLIGHT
BEGIN:STANDARD
TZOFFSETFROM:-0700
TZOFFSETTO:-0800
TZNAME:PST
DTSTART:20261101T090000
END:STANDARD
END:VTIMEZONE
BEGIN:VEVENT
DTSTART;TZID=America/Los_Angeles:20251018T080000
DTEND;TZID=America/Los_Angeles:20251018T120000
DTSTAMP:20260423T173029
CREATED:20250921T141928Z
LAST-MODIFIED:20250921T141928Z
UID:6841-1760774400-1760788800@www.centralcoastclsa.org
SUMMARY:NCEES FS (SIT) Study Group - Virtrual
DESCRIPTION:The NCEES FS (SIT) Study Session will take place on Saturday\, Oct. 18\, from 8 a.m.-noon U.S. Central Time. (Register through the form below no later than Thursday\, Oct. 16 end of business day). \nIf you wish to Register for the NCEES FS (SIT) Study Session follow this link: https://gastone1978.aidaform.com/ncees-sit-fs-study-group-october-18-2025 \nAs always\, there is no charge for the groups. \nNote: In order to secure a place to attend\, you need to fill out the form provided through the link above. Do not send an e-mail directly to RSVP. The material and the link to the TEAMS Invite will be distributed a day after registration closes (Friday\, Oct. 17) \nIf you wish to be notified of similar study sessions\, join us at https://www.linkedin.com/groups/4834037/
URL:https://www.centralcoastclsa.org/index.php/event/ncees-fs-sit-study-group-virtrual/
ATTACH;FMTTYPE=image/png:https://www.centralcoastclsa.org/wp-content/uploads/2016/01/cropped-cropped-Logo1-1.png
END:VEVENT
END:VCALENDAR