BEGIN:VCALENDAR
VERSION:2.0
PRODID:-//Parallax - ECPv6.15.20//NONSGML v1.0//EN
CALSCALE:GREGORIAN
METHOD:PUBLISH
X-ORIGINAL-URL:https://www.centralcoastclsa.org
X-WR-CALDESC:Events for Parallax
REFRESH-INTERVAL;VALUE=DURATION:PT1H
X-Robots-Tag:noindex
X-PUBLISHED-TTL:PT1H
BEGIN:VTIMEZONE
TZID:America/Los_Angeles
BEGIN:DAYLIGHT
TZOFFSETFROM:-0800
TZOFFSETTO:-0700
TZNAME:PDT
DTSTART:20230312T100000
END:DAYLIGHT
BEGIN:STANDARD
TZOFFSETFROM:-0700
TZOFFSETTO:-0800
TZNAME:PST
DTSTART:20231105T090000
END:STANDARD
BEGIN:DAYLIGHT
TZOFFSETFROM:-0800
TZOFFSETTO:-0700
TZNAME:PDT
DTSTART:20240310T100000
END:DAYLIGHT
BEGIN:STANDARD
TZOFFSETFROM:-0700
TZOFFSETTO:-0800
TZNAME:PST
DTSTART:20241103T090000
END:STANDARD
BEGIN:DAYLIGHT
TZOFFSETFROM:-0800
TZOFFSETTO:-0700
TZNAME:PDT
DTSTART:20250309T100000
END:DAYLIGHT
BEGIN:STANDARD
TZOFFSETFROM:-0700
TZOFFSETTO:-0800
TZNAME:PST
DTSTART:20251102T090000
END:STANDARD
END:VTIMEZONE
BEGIN:VEVENT
DTSTART;TZID=America/Los_Angeles:20240117T180000
DTEND;TZID=America/Los_Angeles:20240117T200000
DTSTAMP:20260425T032111
CREATED:20231228T143050Z
LAST-MODIFIED:20231229T224402Z
UID:5650-1705514400-1705521600@www.centralcoastclsa.org
SUMMARY:Chapter Meeting w/Guest Speaker
DESCRIPTION:The first meeting of 2024 featuring guest Speaker Kevin Irot of First American Title Co (aka FATCO) will be held at “The Switch” Eatery in SLO on January 17 at 6pm (5;30 social) \nWalk up order from the menu\, pay your own bill.\nThe Switch Eatery MENU \nBeer & Wine are available \nThe new 2024 Chapter Officers will formally assume the duties of their respective positions at the meeting. \nPresident: Jeremiah Herman\, PLS\nVice-President: Tucker Sanders\, PLS\nSecretary/Treasurer: Marco Castaneda\, PLS\nPast President: Luz Garcia\, PLS\nDirector (2nd term): Joseph Morris\, PLS\nDirector (1st term): Luz Garcia\, PLS\nAlternate Director: George Marchenko\, PLS \n 
URL:https://www.centralcoastclsa.org/index.php/event/chapter-meeting-11/
LOCATION:The Switch\, 12304 Los Osos Valley Rd.\, San Luis Obispo\, CA\, United States
ATTACH;FMTTYPE=image/png:https://www.centralcoastclsa.org/wp-content/uploads/2016/01/cropped-cropped-Logo1-1.png
END:VEVENT
END:VCALENDAR