BEGIN:VCALENDAR
VERSION:2.0
PRODID:-//Parallax - ECPv6.15.20//NONSGML v1.0//EN
CALSCALE:GREGORIAN
METHOD:PUBLISH
X-ORIGINAL-URL:https://www.centralcoastclsa.org
X-WR-CALDESC:Events for Parallax
REFRESH-INTERVAL;VALUE=DURATION:PT1H
X-Robots-Tag:noindex
X-PUBLISHED-TTL:PT1H
BEGIN:VTIMEZONE
TZID:America/Los_Angeles
BEGIN:DAYLIGHT
TZOFFSETFROM:-0800
TZOFFSETTO:-0700
TZNAME:PDT
DTSTART:20220313T100000
END:DAYLIGHT
BEGIN:STANDARD
TZOFFSETFROM:-0700
TZOFFSETTO:-0800
TZNAME:PST
DTSTART:20221106T090000
END:STANDARD
BEGIN:DAYLIGHT
TZOFFSETFROM:-0800
TZOFFSETTO:-0700
TZNAME:PDT
DTSTART:20230312T100000
END:DAYLIGHT
BEGIN:STANDARD
TZOFFSETFROM:-0700
TZOFFSETTO:-0800
TZNAME:PST
DTSTART:20231105T090000
END:STANDARD
BEGIN:DAYLIGHT
TZOFFSETFROM:-0800
TZOFFSETTO:-0700
TZNAME:PDT
DTSTART:20240310T100000
END:DAYLIGHT
BEGIN:STANDARD
TZOFFSETFROM:-0700
TZOFFSETTO:-0800
TZNAME:PST
DTSTART:20241103T090000
END:STANDARD
END:VTIMEZONE
BEGIN:VEVENT
DTSTART;TZID=America/Los_Angeles:20230719T180000
DTEND;TZID=America/Los_Angeles:20230719T200000
DTSTAMP:20260425T125401
CREATED:20230702T150053Z
LAST-MODIFIED:20230710T130141Z
UID:5347-1689789600-1689796800@www.centralcoastclsa.org
SUMMARY:July Chapter Meeting
DESCRIPTION:The July CCC CLSA Chapter Meeting will be held at the Clubhouse Grill at the  Sea PInes Golf Resort in Los Osos on Wed July 19\, 2023.\nSocial at 5:30\,\nThe dinner meeting will commence at 6pm PDT. \nGuest Speaker will be our own Robert Reese  \nMenu:   Order from the Menu \nLocation: 1945 Solano Street Los Osos \n(note: the Clubhouse Restaurant is on the Howard Street Side of the resort) \nPlease RSVP to Jeremiah@mbslandsurveys.com \n 
URL:https://www.centralcoastclsa.org/index.php/event/chapter-meeting-8/
ATTACH;FMTTYPE=image/png:https://www.centralcoastclsa.org/wp-content/uploads/2016/01/cropped-cropped-Logo1-1.png
END:VEVENT
END:VCALENDAR