BEGIN:VCALENDAR
VERSION:2.0
PRODID:-//Parallax - ECPv6.15.20//NONSGML v1.0//EN
CALSCALE:GREGORIAN
METHOD:PUBLISH
X-ORIGINAL-URL:https://www.centralcoastclsa.org
X-WR-CALDESC:Events for Parallax
REFRESH-INTERVAL;VALUE=DURATION:PT1H
X-Robots-Tag:noindex
X-PUBLISHED-TTL:PT1H
BEGIN:VTIMEZONE
TZID:America/Los_Angeles
BEGIN:DAYLIGHT
TZOFFSETFROM:-0800
TZOFFSETTO:-0700
TZNAME:PDT
DTSTART:20220313T100000
END:DAYLIGHT
BEGIN:STANDARD
TZOFFSETFROM:-0700
TZOFFSETTO:-0800
TZNAME:PST
DTSTART:20221106T090000
END:STANDARD
BEGIN:DAYLIGHT
TZOFFSETFROM:-0800
TZOFFSETTO:-0700
TZNAME:PDT
DTSTART:20230312T100000
END:DAYLIGHT
BEGIN:STANDARD
TZOFFSETFROM:-0700
TZOFFSETTO:-0800
TZNAME:PST
DTSTART:20231105T090000
END:STANDARD
BEGIN:DAYLIGHT
TZOFFSETFROM:-0800
TZOFFSETTO:-0700
TZNAME:PDT
DTSTART:20240310T100000
END:DAYLIGHT
BEGIN:STANDARD
TZOFFSETFROM:-0700
TZOFFSETTO:-0800
TZNAME:PST
DTSTART:20241103T090000
END:STANDARD
END:VTIMEZONE
BEGIN:VEVENT
DTSTART;TZID=America/Los_Angeles:20230524T180000
DTEND;TZID=America/Los_Angeles:20230524T200000
DTSTAMP:20260425T154827
CREATED:20230323T044511Z
LAST-MODIFIED:20230501T022726Z
UID:5107-1684951200-1684958400@www.centralcoastclsa.org
SUMMARY:Chapter Meeting
DESCRIPTION:Wednesday May 24 will be the next Chapter Meeting of the CCC CLSA. (Yes\, May 24 is correct. The event Calendar did have an earlier date posted however scheduling conflicts have moved the date to the 24th) The venue\, Side Street Ale House in Atascadero is a new meeting location for the Chapter.\n\nGuest Speaker will be Nate Stong from the City of San Luis Obispo Community Development Department discussing the Update of the City’s Subdivision Regulations.\n\n\nPlease RSVP to Chapter Vice President Jeremiah Herman at jeremiah@mbslandsurveys.com as soon as possible so that he can provide an accurate head count to the restaurant in a timely manner. \n \n\n 
URL:https://www.centralcoastclsa.org/index.php/event/chapter-meeting-7/
LOCATION:Street Side Ale House\, 6155 El Camino Real\, Atascadero\, CA\, 93422\, United States
ATTACH;FMTTYPE=image/png:https://www.centralcoastclsa.org/wp-content/uploads/2016/01/cropped-cropped-Logo1-1.png
END:VEVENT
END:VCALENDAR