BEGIN:VCALENDAR
VERSION:2.0
PRODID:-//Parallax - ECPv6.15.20//NONSGML v1.0//EN
CALSCALE:GREGORIAN
METHOD:PUBLISH
X-ORIGINAL-URL:https://www.centralcoastclsa.org
X-WR-CALDESC:Events for Parallax
REFRESH-INTERVAL;VALUE=DURATION:PT1H
X-Robots-Tag:noindex
X-PUBLISHED-TTL:PT1H
BEGIN:VTIMEZONE
TZID:America/Los_Angeles
BEGIN:DAYLIGHT
TZOFFSETFROM:-0800
TZOFFSETTO:-0700
TZNAME:PDT
DTSTART:20220313T100000
END:DAYLIGHT
BEGIN:STANDARD
TZOFFSETFROM:-0700
TZOFFSETTO:-0800
TZNAME:PST
DTSTART:20221106T090000
END:STANDARD
BEGIN:DAYLIGHT
TZOFFSETFROM:-0800
TZOFFSETTO:-0700
TZNAME:PDT
DTSTART:20230312T100000
END:DAYLIGHT
BEGIN:STANDARD
TZOFFSETFROM:-0700
TZOFFSETTO:-0800
TZNAME:PST
DTSTART:20231105T090000
END:STANDARD
BEGIN:DAYLIGHT
TZOFFSETFROM:-0800
TZOFFSETTO:-0700
TZNAME:PDT
DTSTART:20240310T100000
END:DAYLIGHT
BEGIN:STANDARD
TZOFFSETFROM:-0700
TZOFFSETTO:-0800
TZNAME:PST
DTSTART:20241103T090000
END:STANDARD
END:VTIMEZONE
BEGIN:VEVENT
DTSTART;VALUE=DATE:20230112
DTEND;VALUE=DATE:20230114
DTSTAMP:20260425T205314
CREATED:20221202T230900Z
LAST-MODIFIED:20221202T230939Z
UID:4883-1673481600-1673654399@www.centralcoastclsa.org
SUMMARY:Fresno State Geomatics Conference
DESCRIPTION:2023_Conference_Flyer \nSince 1958\, Fresno State’s Geomatics Engineering Club has partnered with the surveying industry\, the community\, faculty and other Geomatics Engineering/Photogrammetry and Remote Sensing related businesses and agencies to host this annual celebration of the Surveying profession. By recognizing our past\, present and future and connecting students to alumni\, industry professionals and researchers\, students will have the opportunity to discover the world of Geomatics Engineering through the eyes of the professionals. \nThe conference focuses on a variety of areas such as:\nLand Surveying\nPhotogrammetry\nUnmanned Aerial Systems\nGeographical Information Systems (GIS)\nGlobal Positioning Systems (GPS) \nNearly 20 guest speakers from industry\, government and academia will speak about a variety of topics. Numerous scholarships will be awarded to Lyles College of Engineering. More than $1 million in scholarships have been awarded at this annual conference over the years. Several vendors also will be exhibiting the latest technologies in GIS\, surveying and more.
URL:https://www.centralcoastclsa.org/index.php/event/fresno-state-geomatics-conference/
LOCATION:Freso State University – Resnick Student Union\, 5244 N. Jackson Ave.\, Fresno\, CA\, United States
ATTACH;FMTTYPE=image/png:https://www.centralcoastclsa.org/wp-content/uploads/2016/01/cropped-cropped-Logo1-1.png
END:VEVENT
END:VCALENDAR